BEGIN:VCALENDAR
VERSION:2.0
PRODID:-//Gemeinde Gottes Pirmasens KdöR - ECPv6.15.20//NONSGML v1.0//EN
CALSCALE:GREGORIAN
METHOD:PUBLISH
X-WR-CALNAME:Gemeinde Gottes Pirmasens KdöR
X-ORIGINAL-URL:https://gemeinde-gottes-ps.de
X-WR-CALDESC:Veranstaltungen für Gemeinde Gottes Pirmasens KdöR
REFRESH-INTERVAL;VALUE=DURATION:PT1H
X-Robots-Tag:noindex
X-PUBLISHED-TTL:PT1H
BEGIN:VTIMEZONE
TZID:Europe/Berlin
BEGIN:DAYLIGHT
TZOFFSETFROM:+0100
TZOFFSETTO:+0200
TZNAME:CEST
DTSTART:20250330T010000
END:DAYLIGHT
BEGIN:STANDARD
TZOFFSETFROM:+0200
TZOFFSETTO:+0100
TZNAME:CET
DTSTART:20251026T010000
END:STANDARD
BEGIN:DAYLIGHT
TZOFFSETFROM:+0100
TZOFFSETTO:+0200
TZNAME:CEST
DTSTART:20260329T010000
END:DAYLIGHT
BEGIN:STANDARD
TZOFFSETFROM:+0200
TZOFFSETTO:+0100
TZNAME:CET
DTSTART:20261025T010000
END:STANDARD
BEGIN:DAYLIGHT
TZOFFSETFROM:+0100
TZOFFSETTO:+0200
TZNAME:CEST
DTSTART:20270328T010000
END:DAYLIGHT
BEGIN:STANDARD
TZOFFSETFROM:+0200
TZOFFSETTO:+0100
TZNAME:CET
DTSTART:20271031T010000
END:STANDARD
END:VTIMEZONE
BEGIN:VEVENT
DTSTART;TZID=Europe/Berlin:20260426T100000
DTEND;TZID=Europe/Berlin:20260426T113000
DTSTAMP:20260425T132916
CREATED:20260224T154144Z
LAST-MODIFIED:20260224T154144Z
UID:331-1777197600-1777203000@gemeinde-gottes-ps.de
SUMMARY:Gottesdienst
DESCRIPTION:Im Anschluss laden wir zu einem gemütlichen Beisammensein bei Kuchen und einer Tasse Kaffee oder Tee ein.
URL:https://gemeinde-gottes-ps.de/event/gottesdienst-9/
END:VEVENT
BEGIN:VEVENT
DTSTART;TZID=Europe/Berlin:20260503T100000
DTEND;TZID=Europe/Berlin:20260503T113000
DTSTAMP:20260425T132916
CREATED:20260224T154144Z
LAST-MODIFIED:20260224T154144Z
UID:332-1777802400-1777807800@gemeinde-gottes-ps.de
SUMMARY:Gottesdienst
DESCRIPTION:Im Anschluss laden wir zu einem gemütlichen Beisammensein bei Kuchen und einer Tasse Kaffee oder Tee ein.
URL:https://gemeinde-gottes-ps.de/event/gottesdienst-10/
END:VEVENT
BEGIN:VEVENT
DTSTART;TZID=Europe/Berlin:20260510T100000
DTEND;TZID=Europe/Berlin:20260510T113000
DTSTAMP:20260425T132916
CREATED:20260224T154144Z
LAST-MODIFIED:20260224T154144Z
UID:333-1778407200-1778412600@gemeinde-gottes-ps.de
SUMMARY:Gottesdienst
DESCRIPTION:Im Anschluss laden wir zu einem gemütlichen Beisammensein bei Kuchen und einer Tasse Kaffee oder Tee ein.
URL:https://gemeinde-gottes-ps.de/event/gottesdienst-11/
END:VEVENT
BEGIN:VEVENT
DTSTART;TZID=Europe/Berlin:20260517T100000
DTEND;TZID=Europe/Berlin:20260517T113000
DTSTAMP:20260425T132916
CREATED:20260224T154144Z
LAST-MODIFIED:20260224T154144Z
UID:334-1779012000-1779017400@gemeinde-gottes-ps.de
SUMMARY:Gottesdienst
DESCRIPTION:Im Anschluss laden wir zu einem gemütlichen Beisammensein bei Kuchen und einer Tasse Kaffee oder Tee ein.
URL:https://gemeinde-gottes-ps.de/event/gottesdienst-12/
END:VEVENT
BEGIN:VEVENT
DTSTART;TZID=Europe/Berlin:20260524T100000
DTEND;TZID=Europe/Berlin:20260524T113000
DTSTAMP:20260425T132916
CREATED:20260224T154144Z
LAST-MODIFIED:20260224T154144Z
UID:335-1779616800-1779622200@gemeinde-gottes-ps.de
SUMMARY:Gottesdienst
DESCRIPTION:Im Anschluss laden wir zu einem gemütlichen Beisammensein bei Kuchen und einer Tasse Kaffee oder Tee ein.
URL:https://gemeinde-gottes-ps.de/event/gottesdienst-13/
END:VEVENT
BEGIN:VEVENT
DTSTART;TZID=Europe/Berlin:20260531T100000
DTEND;TZID=Europe/Berlin:20260531T113000
DTSTAMP:20260425T132916
CREATED:20260224T154144Z
LAST-MODIFIED:20260224T154144Z
UID:336-1780221600-1780227000@gemeinde-gottes-ps.de
SUMMARY:Gottesdienst
DESCRIPTION:Im Anschluss laden wir zu einem gemütlichen Beisammensein bei Kuchen und einer Tasse Kaffee oder Tee ein.
URL:https://gemeinde-gottes-ps.de/event/gottesdienst-14/
END:VEVENT
BEGIN:VEVENT
DTSTART;TZID=Europe/Berlin:20260607T100000
DTEND;TZID=Europe/Berlin:20260607T113000
DTSTAMP:20260425T132916
CREATED:20260224T154144Z
LAST-MODIFIED:20260224T154144Z
UID:337-1780826400-1780831800@gemeinde-gottes-ps.de
SUMMARY:Gottesdienst
DESCRIPTION:Im Anschluss laden wir zu einem gemütlichen Beisammensein bei Kuchen und einer Tasse Kaffee oder Tee ein.
URL:https://gemeinde-gottes-ps.de/event/gottesdienst-15/
END:VEVENT
BEGIN:VEVENT
DTSTART;TZID=Europe/Berlin:20260614T100000
DTEND;TZID=Europe/Berlin:20260614T113000
DTSTAMP:20260425T132916
CREATED:20260224T154145Z
LAST-MODIFIED:20260224T154145Z
UID:338-1781431200-1781436600@gemeinde-gottes-ps.de
SUMMARY:Gottesdienst
DESCRIPTION:Im Anschluss laden wir zu einem gemütlichen Beisammensein bei Kuchen und einer Tasse Kaffee oder Tee ein.
URL:https://gemeinde-gottes-ps.de/event/gottesdienst-16/
END:VEVENT
BEGIN:VEVENT
DTSTART;TZID=Europe/Berlin:20260621T100000
DTEND;TZID=Europe/Berlin:20260621T113000
DTSTAMP:20260425T132916
CREATED:20260224T154145Z
LAST-MODIFIED:20260224T154145Z
UID:339-1782036000-1782041400@gemeinde-gottes-ps.de
SUMMARY:Gottesdienst
DESCRIPTION:Im Anschluss laden wir zu einem gemütlichen Beisammensein bei Kuchen und einer Tasse Kaffee oder Tee ein.
URL:https://gemeinde-gottes-ps.de/event/gottesdienst-17/
END:VEVENT
BEGIN:VEVENT
DTSTART;TZID=Europe/Berlin:20260628T100000
DTEND;TZID=Europe/Berlin:20260628T113000
DTSTAMP:20260425T132916
CREATED:20260224T154145Z
LAST-MODIFIED:20260224T154145Z
UID:340-1782640800-1782646200@gemeinde-gottes-ps.de
SUMMARY:Gottesdienst
DESCRIPTION:Im Anschluss laden wir zu einem gemütlichen Beisammensein bei Kuchen und einer Tasse Kaffee oder Tee ein.
URL:https://gemeinde-gottes-ps.de/event/gottesdienst-18/
END:VEVENT
BEGIN:VEVENT
DTSTART;TZID=Europe/Berlin:20260705T100000
DTEND;TZID=Europe/Berlin:20260705T113000
DTSTAMP:20260425T132916
CREATED:20260224T154145Z
LAST-MODIFIED:20260224T154145Z
UID:341-1783245600-1783251000@gemeinde-gottes-ps.de
SUMMARY:Gottesdienst
DESCRIPTION:Im Anschluss laden wir zu einem gemütlichen Beisammensein bei Kuchen und einer Tasse Kaffee oder Tee ein.
URL:https://gemeinde-gottes-ps.de/event/gottesdienst-19/
END:VEVENT
BEGIN:VEVENT
DTSTART;TZID=Europe/Berlin:20260712T100000
DTEND;TZID=Europe/Berlin:20260712T113000
DTSTAMP:20260425T132916
CREATED:20260224T154145Z
LAST-MODIFIED:20260224T154145Z
UID:342-1783850400-1783855800@gemeinde-gottes-ps.de
SUMMARY:Gottesdienst
DESCRIPTION:Im Anschluss laden wir zu einem gemütlichen Beisammensein bei Kuchen und einer Tasse Kaffee oder Tee ein.
URL:https://gemeinde-gottes-ps.de/event/gottesdienst-20/
END:VEVENT
BEGIN:VEVENT
DTSTART;TZID=Europe/Berlin:20260719T100000
DTEND;TZID=Europe/Berlin:20260719T113000
DTSTAMP:20260425T132916
CREATED:20260224T154145Z
LAST-MODIFIED:20260224T154145Z
UID:343-1784455200-1784460600@gemeinde-gottes-ps.de
SUMMARY:Gottesdienst
DESCRIPTION:Im Anschluss laden wir zu einem gemütlichen Beisammensein bei Kuchen und einer Tasse Kaffee oder Tee ein.
URL:https://gemeinde-gottes-ps.de/event/gottesdienst-21/
END:VEVENT
BEGIN:VEVENT
DTSTART;TZID=Europe/Berlin:20260726T100000
DTEND;TZID=Europe/Berlin:20260726T113000
DTSTAMP:20260425T132916
CREATED:20260224T154145Z
LAST-MODIFIED:20260224T154145Z
UID:344-1785060000-1785065400@gemeinde-gottes-ps.de
SUMMARY:Gottesdienst
DESCRIPTION:Im Anschluss laden wir zu einem gemütlichen Beisammensein bei Kuchen und einer Tasse Kaffee oder Tee ein.
URL:https://gemeinde-gottes-ps.de/event/gottesdienst-22/
END:VEVENT
BEGIN:VEVENT
DTSTART;TZID=Europe/Berlin:20260802T100000
DTEND;TZID=Europe/Berlin:20260802T113000
DTSTAMP:20260425T132916
CREATED:20260224T154145Z
LAST-MODIFIED:20260224T154145Z
UID:345-1785664800-1785670200@gemeinde-gottes-ps.de
SUMMARY:Gottesdienst
DESCRIPTION:Im Anschluss laden wir zu einem gemütlichen Beisammensein bei Kuchen und einer Tasse Kaffee oder Tee ein.
URL:https://gemeinde-gottes-ps.de/event/gottesdienst-23/
END:VEVENT
BEGIN:VEVENT
DTSTART;TZID=Europe/Berlin:20260809T100000
DTEND;TZID=Europe/Berlin:20260809T113000
DTSTAMP:20260425T132916
CREATED:20260224T154145Z
LAST-MODIFIED:20260224T154145Z
UID:346-1786269600-1786275000@gemeinde-gottes-ps.de
SUMMARY:Gottesdienst
DESCRIPTION:Im Anschluss laden wir zu einem gemütlichen Beisammensein bei Kuchen und einer Tasse Kaffee oder Tee ein.
URL:https://gemeinde-gottes-ps.de/event/gottesdienst-24/
END:VEVENT
BEGIN:VEVENT
DTSTART;TZID=Europe/Berlin:20260816T100000
DTEND;TZID=Europe/Berlin:20260816T113000
DTSTAMP:20260425T132916
CREATED:20260224T154145Z
LAST-MODIFIED:20260224T154145Z
UID:347-1786874400-1786879800@gemeinde-gottes-ps.de
SUMMARY:Gottesdienst
DESCRIPTION:Im Anschluss laden wir zu einem gemütlichen Beisammensein bei Kuchen und einer Tasse Kaffee oder Tee ein.
URL:https://gemeinde-gottes-ps.de/event/gottesdienst-25/
END:VEVENT
BEGIN:VEVENT
DTSTART;TZID=Europe/Berlin:20260823T100000
DTEND;TZID=Europe/Berlin:20260823T113000
DTSTAMP:20260425T132916
CREATED:20260224T154145Z
LAST-MODIFIED:20260224T154145Z
UID:348-1787479200-1787484600@gemeinde-gottes-ps.de
SUMMARY:Gottesdienst
DESCRIPTION:Im Anschluss laden wir zu einem gemütlichen Beisammensein bei Kuchen und einer Tasse Kaffee oder Tee ein.
URL:https://gemeinde-gottes-ps.de/event/gottesdienst-26/
END:VEVENT
BEGIN:VEVENT
DTSTART;TZID=Europe/Berlin:20260830T100000
DTEND;TZID=Europe/Berlin:20260830T113000
DTSTAMP:20260425T132916
CREATED:20260224T154145Z
LAST-MODIFIED:20260224T154145Z
UID:349-1788084000-1788089400@gemeinde-gottes-ps.de
SUMMARY:Gottesdienst
DESCRIPTION:Im Anschluss laden wir zu einem gemütlichen Beisammensein bei Kuchen und einer Tasse Kaffee oder Tee ein.
URL:https://gemeinde-gottes-ps.de/event/gottesdienst-27/
END:VEVENT
BEGIN:VEVENT
DTSTART;TZID=Europe/Berlin:20260906T100000
DTEND;TZID=Europe/Berlin:20260906T113000
DTSTAMP:20260425T132916
CREATED:20260224T154145Z
LAST-MODIFIED:20260224T154145Z
UID:350-1788688800-1788694200@gemeinde-gottes-ps.de
SUMMARY:Gottesdienst
DESCRIPTION:Im Anschluss laden wir zu einem gemütlichen Beisammensein bei Kuchen und einer Tasse Kaffee oder Tee ein.
URL:https://gemeinde-gottes-ps.de/event/gottesdienst-28/
END:VEVENT
BEGIN:VEVENT
DTSTART;TZID=Europe/Berlin:20260913T100000
DTEND;TZID=Europe/Berlin:20260913T113000
DTSTAMP:20260425T132916
CREATED:20260224T154145Z
LAST-MODIFIED:20260224T154145Z
UID:351-1789293600-1789299000@gemeinde-gottes-ps.de
SUMMARY:Gottesdienst
DESCRIPTION:Im Anschluss laden wir zu einem gemütlichen Beisammensein bei Kuchen und einer Tasse Kaffee oder Tee ein.
URL:https://gemeinde-gottes-ps.de/event/gottesdienst-29/
END:VEVENT
BEGIN:VEVENT
DTSTART;TZID=Europe/Berlin:20260920T100000
DTEND;TZID=Europe/Berlin:20260920T113000
DTSTAMP:20260425T132916
CREATED:20260224T154145Z
LAST-MODIFIED:20260224T154145Z
UID:352-1789898400-1789903800@gemeinde-gottes-ps.de
SUMMARY:Gottesdienst
DESCRIPTION:Im Anschluss laden wir zu einem gemütlichen Beisammensein bei Kuchen und einer Tasse Kaffee oder Tee ein.
URL:https://gemeinde-gottes-ps.de/event/gottesdienst-30/
END:VEVENT
BEGIN:VEVENT
DTSTART;TZID=Europe/Berlin:20260927T100000
DTEND;TZID=Europe/Berlin:20260927T113000
DTSTAMP:20260425T132916
CREATED:20260224T154145Z
LAST-MODIFIED:20260224T154145Z
UID:353-1790503200-1790508600@gemeinde-gottes-ps.de
SUMMARY:Gottesdienst
DESCRIPTION:Im Anschluss laden wir zu einem gemütlichen Beisammensein bei Kuchen und einer Tasse Kaffee oder Tee ein.
URL:https://gemeinde-gottes-ps.de/event/gottesdienst-31/
END:VEVENT
BEGIN:VEVENT
DTSTART;TZID=Europe/Berlin:20261004T100000
DTEND;TZID=Europe/Berlin:20261004T113000
DTSTAMP:20260425T132916
CREATED:20260224T154145Z
LAST-MODIFIED:20260224T154145Z
UID:354-1791108000-1791113400@gemeinde-gottes-ps.de
SUMMARY:Gottesdienst
DESCRIPTION:Im Anschluss laden wir zu einem gemütlichen Beisammensein bei Kuchen und einer Tasse Kaffee oder Tee ein.
URL:https://gemeinde-gottes-ps.de/event/gottesdienst-32/
END:VEVENT
BEGIN:VEVENT
DTSTART;TZID=Europe/Berlin:20261011T100000
DTEND;TZID=Europe/Berlin:20261011T113000
DTSTAMP:20260425T132916
CREATED:20260224T154145Z
LAST-MODIFIED:20260224T154145Z
UID:355-1791712800-1791718200@gemeinde-gottes-ps.de
SUMMARY:Gottesdienst
DESCRIPTION:Im Anschluss laden wir zu einem gemütlichen Beisammensein bei Kuchen und einer Tasse Kaffee oder Tee ein.
URL:https://gemeinde-gottes-ps.de/event/gottesdienst-33/
END:VEVENT
BEGIN:VEVENT
DTSTART;TZID=Europe/Berlin:20261018T100000
DTEND;TZID=Europe/Berlin:20261018T113000
DTSTAMP:20260425T132916
CREATED:20260224T154145Z
LAST-MODIFIED:20260224T154145Z
UID:356-1792317600-1792323000@gemeinde-gottes-ps.de
SUMMARY:Gottesdienst
DESCRIPTION:Im Anschluss laden wir zu einem gemütlichen Beisammensein bei Kuchen und einer Tasse Kaffee oder Tee ein.
URL:https://gemeinde-gottes-ps.de/event/gottesdienst-34/
END:VEVENT
BEGIN:VEVENT
DTSTART;TZID=Europe/Berlin:20261025T100000
DTEND;TZID=Europe/Berlin:20261025T113000
DTSTAMP:20260425T132916
CREATED:20260224T154145Z
LAST-MODIFIED:20260224T154145Z
UID:357-1792922400-1792927800@gemeinde-gottes-ps.de
SUMMARY:Gottesdienst
DESCRIPTION:Im Anschluss laden wir zu einem gemütlichen Beisammensein bei Kuchen und einer Tasse Kaffee oder Tee ein.
URL:https://gemeinde-gottes-ps.de/event/gottesdienst-35/
END:VEVENT
BEGIN:VEVENT
DTSTART;TZID=Europe/Berlin:20261101T100000
DTEND;TZID=Europe/Berlin:20261101T113000
DTSTAMP:20260425T132916
CREATED:20260224T154145Z
LAST-MODIFIED:20260224T154145Z
UID:358-1793527200-1793532600@gemeinde-gottes-ps.de
SUMMARY:Gottesdienst
DESCRIPTION:Im Anschluss laden wir zu einem gemütlichen Beisammensein bei Kuchen und einer Tasse Kaffee oder Tee ein.
URL:https://gemeinde-gottes-ps.de/event/gottesdienst-36/
END:VEVENT
BEGIN:VEVENT
DTSTART;TZID=Europe/Berlin:20261108T100000
DTEND;TZID=Europe/Berlin:20261108T113000
DTSTAMP:20260425T132916
CREATED:20260224T154145Z
LAST-MODIFIED:20260224T154145Z
UID:359-1794132000-1794137400@gemeinde-gottes-ps.de
SUMMARY:Gottesdienst
DESCRIPTION:Im Anschluss laden wir zu einem gemütlichen Beisammensein bei Kuchen und einer Tasse Kaffee oder Tee ein.
URL:https://gemeinde-gottes-ps.de/event/gottesdienst-37/
END:VEVENT
BEGIN:VEVENT
DTSTART;TZID=Europe/Berlin:20261115T100000
DTEND;TZID=Europe/Berlin:20261115T113000
DTSTAMP:20260425T132916
CREATED:20260224T154145Z
LAST-MODIFIED:20260224T154145Z
UID:360-1794736800-1794742200@gemeinde-gottes-ps.de
SUMMARY:Gottesdienst
DESCRIPTION:Im Anschluss laden wir zu einem gemütlichen Beisammensein bei Kuchen und einer Tasse Kaffee oder Tee ein.
URL:https://gemeinde-gottes-ps.de/event/gottesdienst-38/
END:VEVENT
END:VCALENDAR