BEGIN:VCALENDAR
VERSION:2.0
PRODID:-//Gemeinde Gottes Pirmasens KdöR - ECPv6.15.20//NONSGML v1.0//EN
CALSCALE:GREGORIAN
METHOD:PUBLISH
X-WR-CALNAME:Gemeinde Gottes Pirmasens KdöR
X-ORIGINAL-URL:https://gemeinde-gottes-ps.de
X-WR-CALDESC:Veranstaltungen für Gemeinde Gottes Pirmasens KdöR
REFRESH-INTERVAL;VALUE=DURATION:PT1H
X-Robots-Tag:noindex
X-PUBLISHED-TTL:PT1H
BEGIN:VTIMEZONE
TZID:Europe/Berlin
BEGIN:DAYLIGHT
TZOFFSETFROM:+0100
TZOFFSETTO:+0200
TZNAME:CEST
DTSTART:20250330T010000
END:DAYLIGHT
BEGIN:STANDARD
TZOFFSETFROM:+0200
TZOFFSETTO:+0100
TZNAME:CET
DTSTART:20251026T010000
END:STANDARD
BEGIN:DAYLIGHT
TZOFFSETFROM:+0100
TZOFFSETTO:+0200
TZNAME:CEST
DTSTART:20260329T010000
END:DAYLIGHT
BEGIN:STANDARD
TZOFFSETFROM:+0200
TZOFFSETTO:+0100
TZNAME:CET
DTSTART:20261025T010000
END:STANDARD
BEGIN:DAYLIGHT
TZOFFSETFROM:+0100
TZOFFSETTO:+0200
TZNAME:CEST
DTSTART:20270328T010000
END:DAYLIGHT
BEGIN:STANDARD
TZOFFSETFROM:+0200
TZOFFSETTO:+0100
TZNAME:CET
DTSTART:20271031T010000
END:STANDARD
BEGIN:DAYLIGHT
TZOFFSETFROM:+0100
TZOFFSETTO:+0200
TZNAME:CEST
DTSTART:20280326T010000
END:DAYLIGHT
BEGIN:STANDARD
TZOFFSETFROM:+0200
TZOFFSETTO:+0100
TZNAME:CET
DTSTART:20281029T010000
END:STANDARD
END:VTIMEZONE
BEGIN:VEVENT
DTSTART;TZID=Europe/Berlin:20261011T100000
DTEND;TZID=Europe/Berlin:20261011T113000
DTSTAMP:20260425T163009
CREATED:20260224T154145Z
LAST-MODIFIED:20260224T154145Z
UID:355-1791712800-1791718200@gemeinde-gottes-ps.de
SUMMARY:Gottesdienst
DESCRIPTION:Im Anschluss laden wir zu einem gemütlichen Beisammensein bei Kuchen und einer Tasse Kaffee oder Tee ein.
URL:https://gemeinde-gottes-ps.de/event/gottesdienst-33/
END:VEVENT
BEGIN:VEVENT
DTSTART;TZID=Europe/Berlin:20261018T100000
DTEND;TZID=Europe/Berlin:20261018T113000
DTSTAMP:20260425T163009
CREATED:20260224T154145Z
LAST-MODIFIED:20260224T154145Z
UID:356-1792317600-1792323000@gemeinde-gottes-ps.de
SUMMARY:Gottesdienst
DESCRIPTION:Im Anschluss laden wir zu einem gemütlichen Beisammensein bei Kuchen und einer Tasse Kaffee oder Tee ein.
URL:https://gemeinde-gottes-ps.de/event/gottesdienst-34/
END:VEVENT
BEGIN:VEVENT
DTSTART;TZID=Europe/Berlin:20261025T100000
DTEND;TZID=Europe/Berlin:20261025T113000
DTSTAMP:20260425T163009
CREATED:20260224T154145Z
LAST-MODIFIED:20260224T154145Z
UID:357-1792922400-1792927800@gemeinde-gottes-ps.de
SUMMARY:Gottesdienst
DESCRIPTION:Im Anschluss laden wir zu einem gemütlichen Beisammensein bei Kuchen und einer Tasse Kaffee oder Tee ein.
URL:https://gemeinde-gottes-ps.de/event/gottesdienst-35/
END:VEVENT
BEGIN:VEVENT
DTSTART;TZID=Europe/Berlin:20261101T100000
DTEND;TZID=Europe/Berlin:20261101T113000
DTSTAMP:20260425T163009
CREATED:20260224T154145Z
LAST-MODIFIED:20260224T154145Z
UID:358-1793527200-1793532600@gemeinde-gottes-ps.de
SUMMARY:Gottesdienst
DESCRIPTION:Im Anschluss laden wir zu einem gemütlichen Beisammensein bei Kuchen und einer Tasse Kaffee oder Tee ein.
URL:https://gemeinde-gottes-ps.de/event/gottesdienst-36/
END:VEVENT
BEGIN:VEVENT
DTSTART;TZID=Europe/Berlin:20261108T100000
DTEND;TZID=Europe/Berlin:20261108T113000
DTSTAMP:20260425T163009
CREATED:20260224T154145Z
LAST-MODIFIED:20260224T154145Z
UID:359-1794132000-1794137400@gemeinde-gottes-ps.de
SUMMARY:Gottesdienst
DESCRIPTION:Im Anschluss laden wir zu einem gemütlichen Beisammensein bei Kuchen und einer Tasse Kaffee oder Tee ein.
URL:https://gemeinde-gottes-ps.de/event/gottesdienst-37/
END:VEVENT
BEGIN:VEVENT
DTSTART;TZID=Europe/Berlin:20261115T100000
DTEND;TZID=Europe/Berlin:20261115T113000
DTSTAMP:20260425T163009
CREATED:20260224T154145Z
LAST-MODIFIED:20260224T154145Z
UID:360-1794736800-1794742200@gemeinde-gottes-ps.de
SUMMARY:Gottesdienst
DESCRIPTION:Im Anschluss laden wir zu einem gemütlichen Beisammensein bei Kuchen und einer Tasse Kaffee oder Tee ein.
URL:https://gemeinde-gottes-ps.de/event/gottesdienst-38/
END:VEVENT
BEGIN:VEVENT
DTSTART;TZID=Europe/Berlin:20261122T100000
DTEND;TZID=Europe/Berlin:20261122T113000
DTSTAMP:20260425T163009
CREATED:20260224T154145Z
LAST-MODIFIED:20260224T154145Z
UID:361-1795341600-1795347000@gemeinde-gottes-ps.de
SUMMARY:Gottesdienst
DESCRIPTION:Im Anschluss laden wir zu einem gemütlichen Beisammensein bei Kuchen und einer Tasse Kaffee oder Tee ein.
URL:https://gemeinde-gottes-ps.de/event/gottesdienst-39/
END:VEVENT
BEGIN:VEVENT
DTSTART;TZID=Europe/Berlin:20261129T100000
DTEND;TZID=Europe/Berlin:20261129T113000
DTSTAMP:20260425T163009
CREATED:20260224T154145Z
LAST-MODIFIED:20260224T154145Z
UID:362-1795946400-1795951800@gemeinde-gottes-ps.de
SUMMARY:Gottesdienst
DESCRIPTION:Im Anschluss laden wir zu einem gemütlichen Beisammensein bei Kuchen und einer Tasse Kaffee oder Tee ein.
URL:https://gemeinde-gottes-ps.de/event/gottesdienst-40/
END:VEVENT
BEGIN:VEVENT
DTSTART;TZID=Europe/Berlin:20261206T100000
DTEND;TZID=Europe/Berlin:20261206T113000
DTSTAMP:20260425T163009
CREATED:20260224T154145Z
LAST-MODIFIED:20260224T154145Z
UID:363-1796551200-1796556600@gemeinde-gottes-ps.de
SUMMARY:Gottesdienst
DESCRIPTION:Im Anschluss laden wir zu einem gemütlichen Beisammensein bei Kuchen und einer Tasse Kaffee oder Tee ein.
URL:https://gemeinde-gottes-ps.de/event/gottesdienst-41/
END:VEVENT
BEGIN:VEVENT
DTSTART;TZID=Europe/Berlin:20261213T100000
DTEND;TZID=Europe/Berlin:20261213T113000
DTSTAMP:20260425T163009
CREATED:20260224T154145Z
LAST-MODIFIED:20260224T154145Z
UID:364-1797156000-1797161400@gemeinde-gottes-ps.de
SUMMARY:Gottesdienst
DESCRIPTION:Im Anschluss laden wir zu einem gemütlichen Beisammensein bei Kuchen und einer Tasse Kaffee oder Tee ein.
URL:https://gemeinde-gottes-ps.de/event/gottesdienst-42/
END:VEVENT
BEGIN:VEVENT
DTSTART;TZID=Europe/Berlin:20261220T100000
DTEND;TZID=Europe/Berlin:20261220T113000
DTSTAMP:20260425T163009
CREATED:20260224T154145Z
LAST-MODIFIED:20260224T154145Z
UID:365-1797760800-1797766200@gemeinde-gottes-ps.de
SUMMARY:Gottesdienst
DESCRIPTION:Im Anschluss laden wir zu einem gemütlichen Beisammensein bei Kuchen und einer Tasse Kaffee oder Tee ein.
URL:https://gemeinde-gottes-ps.de/event/gottesdienst-43/
END:VEVENT
BEGIN:VEVENT
DTSTART;TZID=Europe/Berlin:20261227T100000
DTEND;TZID=Europe/Berlin:20261227T113000
DTSTAMP:20260425T163009
CREATED:20260224T154145Z
LAST-MODIFIED:20260224T154145Z
UID:366-1798365600-1798371000@gemeinde-gottes-ps.de
SUMMARY:Gottesdienst
DESCRIPTION:Im Anschluss laden wir zu einem gemütlichen Beisammensein bei Kuchen und einer Tasse Kaffee oder Tee ein.
URL:https://gemeinde-gottes-ps.de/event/gottesdienst-44/
END:VEVENT
BEGIN:VEVENT
DTSTART;TZID=Europe/Berlin:20270103T100000
DTEND;TZID=Europe/Berlin:20270103T113000
DTSTAMP:20260425T163009
CREATED:20260224T154145Z
LAST-MODIFIED:20260224T154145Z
UID:367-1798970400-1798975800@gemeinde-gottes-ps.de
SUMMARY:Gottesdienst
DESCRIPTION:Im Anschluss laden wir zu einem gemütlichen Beisammensein bei Kuchen und einer Tasse Kaffee oder Tee ein.
URL:https://gemeinde-gottes-ps.de/event/gottesdienst-45/
END:VEVENT
BEGIN:VEVENT
DTSTART;TZID=Europe/Berlin:20270110T100000
DTEND;TZID=Europe/Berlin:20270110T113000
DTSTAMP:20260425T163009
CREATED:20260224T154145Z
LAST-MODIFIED:20260224T154145Z
UID:368-1799575200-1799580600@gemeinde-gottes-ps.de
SUMMARY:Gottesdienst
DESCRIPTION:Im Anschluss laden wir zu einem gemütlichen Beisammensein bei Kuchen und einer Tasse Kaffee oder Tee ein.
URL:https://gemeinde-gottes-ps.de/event/gottesdienst-46/
END:VEVENT
BEGIN:VEVENT
DTSTART;TZID=Europe/Berlin:20270117T100000
DTEND;TZID=Europe/Berlin:20270117T113000
DTSTAMP:20260425T163009
CREATED:20260224T154145Z
LAST-MODIFIED:20260224T154145Z
UID:369-1800180000-1800185400@gemeinde-gottes-ps.de
SUMMARY:Gottesdienst
DESCRIPTION:Im Anschluss laden wir zu einem gemütlichen Beisammensein bei Kuchen und einer Tasse Kaffee oder Tee ein.
URL:https://gemeinde-gottes-ps.de/event/gottesdienst-47/
END:VEVENT
BEGIN:VEVENT
DTSTART;TZID=Europe/Berlin:20270124T100000
DTEND;TZID=Europe/Berlin:20270124T113000
DTSTAMP:20260425T163009
CREATED:20260224T154145Z
LAST-MODIFIED:20260224T154145Z
UID:370-1800784800-1800790200@gemeinde-gottes-ps.de
SUMMARY:Gottesdienst
DESCRIPTION:Im Anschluss laden wir zu einem gemütlichen Beisammensein bei Kuchen und einer Tasse Kaffee oder Tee ein.
URL:https://gemeinde-gottes-ps.de/event/gottesdienst-48/
END:VEVENT
BEGIN:VEVENT
DTSTART;TZID=Europe/Berlin:20270131T100000
DTEND;TZID=Europe/Berlin:20270131T113000
DTSTAMP:20260425T163009
CREATED:20260224T154145Z
LAST-MODIFIED:20260224T154145Z
UID:371-1801389600-1801395000@gemeinde-gottes-ps.de
SUMMARY:Gottesdienst
DESCRIPTION:Im Anschluss laden wir zu einem gemütlichen Beisammensein bei Kuchen und einer Tasse Kaffee oder Tee ein.
URL:https://gemeinde-gottes-ps.de/event/gottesdienst-49/
END:VEVENT
BEGIN:VEVENT
DTSTART;TZID=Europe/Berlin:20270207T100000
DTEND;TZID=Europe/Berlin:20270207T113000
DTSTAMP:20260425T163009
CREATED:20260224T154145Z
LAST-MODIFIED:20260224T154145Z
UID:372-1801994400-1801999800@gemeinde-gottes-ps.de
SUMMARY:Gottesdienst
DESCRIPTION:Im Anschluss laden wir zu einem gemütlichen Beisammensein bei Kuchen und einer Tasse Kaffee oder Tee ein.
URL:https://gemeinde-gottes-ps.de/event/gottesdienst-50/
END:VEVENT
END:VCALENDAR